BEGIN:VCALENDAR
VERSION:2.0
PRODID:-//QCA School - ECPv6.15.20//NONSGML v1.0//EN
CALSCALE:GREGORIAN
METHOD:PUBLISH
X-WR-CALNAME:QCA School
X-ORIGINAL-URL:https://myqca.org
X-WR-CALDESC:Events for QCA School
REFRESH-INTERVAL;VALUE=DURATION:PT1H
X-Robots-Tag:noindex
X-PUBLISHED-TTL:PT1H
BEGIN:VTIMEZONE
TZID:UTC
BEGIN:STANDARD
TZOFFSETFROM:+0000
TZOFFSETTO:+0000
TZNAME:UTC
DTSTART:20250101T000000
END:STANDARD
END:VTIMEZONE
BEGIN:VEVENT
DTSTART;VALUE=DATE:20260106
DTEND;VALUE=DATE:20260107
DTSTAMP:20260424T072306
CREATED:20250425T154451Z
LAST-MODIFIED:20250425T154653Z
UID:976-1767657600-1767743999@myqca.org
SUMMARY:Students Return for Semester 2
DESCRIPTION:
URL:https://myqca.org/event/students-return-for-semester-2/
CATEGORIES:First/Last Day of School
END:VEVENT
END:VCALENDAR