BEGIN:VCALENDAR
VERSION:2.0
PRODID:-//QCA School - ECPv6.15.20//NONSGML v1.0//EN
CALSCALE:GREGORIAN
METHOD:PUBLISH
X-ORIGINAL-URL:https://myqca.org
X-WR-CALDESC:Events for QCA School
REFRESH-INTERVAL;VALUE=DURATION:PT1H
X-Robots-Tag:noindex
X-PUBLISHED-TTL:PT1H
BEGIN:VTIMEZONE
TZID:UTC
BEGIN:STANDARD
TZOFFSETFROM:+0000
TZOFFSETTO:+0000
TZNAME:UTC
DTSTART:20250101T000000
END:STANDARD
END:VTIMEZONE
BEGIN:VEVENT
DTSTART;TZID=UTC:20260521T080000
DTEND;TZID=UTC:20260521T170000
DTSTAMP:20260424T073606
CREATED:20250425T161916Z
LAST-MODIFIED:20250425T161916Z
UID:1020-1779350400-1779382800@myqca.org
SUMMARY:KG Last Day of School
DESCRIPTION:
URL:https://myqca.org/event/kg-last-day-of-school/
CATEGORIES:First/Last Day of School
END:VEVENT
END:VCALENDAR