BEGIN:VCALENDAR
VERSION:2.0
PRODID:-//QCA School - ECPv6.15.20//NONSGML v1.0//EN
CALSCALE:GREGORIAN
METHOD:PUBLISH
X-WR-CALNAME:QCA School
X-ORIGINAL-URL:https://myqca.org
X-WR-CALDESC:Events for QCA School
REFRESH-INTERVAL;VALUE=DURATION:PT1H
X-Robots-Tag:noindex
X-PUBLISHED-TTL:PT1H
BEGIN:VTIMEZONE
TZID:UTC
BEGIN:STANDARD
TZOFFSETFROM:+0000
TZOFFSETTO:+0000
TZNAME:UTC
DTSTART:20240101T000000
END:STANDARD
END:VTIMEZONE
BEGIN:VEVENT
DTSTART;VALUE=DATE:20251204
DTEND;VALUE=DATE:20251205
DTSTAMP:20260424T041752
CREATED:20250425T154239Z
LAST-MODIFIED:20250425T154239Z
UID:970-1764806400-1764892799@myqca.org
SUMMARY:Coffee with Sr. Fawzia
DESCRIPTION:
URL:https://myqca.org/event/coffee-with-sr-fawzia-2/
CATEGORIES:Special Events
END:VEVENT
BEGIN:VEVENT
DTSTART;VALUE=DATE:20251112
DTEND;VALUE=DATE:20251113
DTSTAMP:20260424T041752
CREATED:20250425T154122Z
LAST-MODIFIED:20250425T154122Z
UID:966-1762905600-1762991999@myqca.org
SUMMARY:QCA Multicultural Day
DESCRIPTION:
URL:https://myqca.org/event/qca-multicultural-day/
CATEGORIES:Special Events
END:VEVENT
BEGIN:VEVENT
DTSTART;VALUE=DATE:20251107
DTEND;VALUE=DATE:20251108
DTSTAMP:20260424T041752
CREATED:20250425T154044Z
LAST-MODIFIED:20250425T154050Z
UID:964-1762473600-1762559999@myqca.org
SUMMARY:QCA Multicultural Nite
DESCRIPTION:
URL:https://myqca.org/event/qca-multicultural-nite/
CATEGORIES:Special Events
END:VEVENT
BEGIN:VEVENT
DTSTART;VALUE=DATE:20251101
DTEND;VALUE=DATE:20251102
DTSTAMP:20260424T041752
CREATED:20250425T154011Z
LAST-MODIFIED:20250425T154011Z
UID:962-1761955200-1762041599@myqca.org
SUMMARY:EPIC QCA Family Event
DESCRIPTION:
URL:https://myqca.org/event/epic-qca-family-event/
CATEGORIES:Special Events
END:VEVENT
BEGIN:VEVENT
DTSTART;VALUE=DATE:20251031
DTEND;VALUE=DATE:20251101
DTSTAMP:20260424T041752
CREATED:20250425T153940Z
LAST-MODIFIED:20250425T153940Z
UID:960-1761868800-1761955199@myqca.org
SUMMARY:MS & HS Field Trip
DESCRIPTION:
URL:https://myqca.org/event/ms-hs-field-trip/
CATEGORIES:Special Events
END:VEVENT
BEGIN:VEVENT
DTSTART;VALUE=DATE:20251023
DTEND;VALUE=DATE:20251024
DTSTAMP:20260424T041752
CREATED:20250425T153914Z
LAST-MODIFIED:20250425T153914Z
UID:958-1761177600-1761263999@myqca.org
SUMMARY:ELEM Field Trip
DESCRIPTION:
URL:https://myqca.org/event/elem-field-trip/
CATEGORIES:Special Events
END:VEVENT
BEGIN:VEVENT
DTSTART;VALUE=DATE:20251003
DTEND;VALUE=DATE:20251004
DTSTAMP:20260424T041752
CREATED:20250425T152349Z
LAST-MODIFIED:20250425T152349Z
UID:944-1759449600-1759535999@myqca.org
SUMMARY:MS & HS Design Studio Showdown
DESCRIPTION:
URL:https://myqca.org/event/ms-hs-design-studio-showdown/
CATEGORIES:Special Events
END:VEVENT
BEGIN:VEVENT
DTSTART;VALUE=DATE:20250927
DTEND;VALUE=DATE:20250928
DTSTAMP:20260424T041752
CREATED:20250425T152224Z
LAST-MODIFIED:20250425T152224Z
UID:942-1758931200-1759017599@myqca.org
SUMMARY:Coffee with Sr. Fawzia
DESCRIPTION:Coffee with Sr. Fawzia facilitates an opportunity for parents to ask questions\, share concerns\, and provide feedback or suggestions directly to the administration.
URL:https://myqca.org/event/coffee-with-sr-fawzia/
CATEGORIES:Special Events
END:VEVENT
BEGIN:VEVENT
DTSTART;VALUE=DATE:20250926
DTEND;VALUE=DATE:20250927
DTSTAMP:20260424T041752
CREATED:20250425T152117Z
LAST-MODIFIED:20250425T152117Z
UID:940-1758844800-1758931199@myqca.org
SUMMARY:Reading Day (ELEM)
DESCRIPTION:
URL:https://myqca.org/event/reading-day-elem-2/
CATEGORIES:Special Events
END:VEVENT
BEGIN:VEVENT
DTSTART;VALUE=DATE:20250825
DTEND;VALUE=DATE:20250830
DTSTAMP:20260424T041752
CREATED:20250423T192407Z
LAST-MODIFIED:20250423T192407Z
UID:934-1756080000-1756511999@myqca.org
SUMMARY:Sem 1 Spirit Week
DESCRIPTION:
URL:https://myqca.org/event/sem-1-spirit-week/
CATEGORIES:Special Events
END:VEVENT
BEGIN:VEVENT
DTSTART;VALUE=DATE:20250816
DTEND;VALUE=DATE:20250817
DTSTAMP:20260424T041752
CREATED:20250423T192242Z
LAST-MODIFIED:20250423T192242Z
UID:930-1755302400-1755388799@myqca.org
SUMMARY:SY 2025 - 2026 All Parent Orientation (K-12)
DESCRIPTION:
URL:https://myqca.org/event/sy-2025-2026-all-parent-orientation-k-12/
CATEGORIES:Special Events
END:VEVENT
BEGIN:VEVENT
DTSTART;VALUE=DATE:20250807
DTEND;VALUE=DATE:20250808
DTSTAMP:20260424T041752
CREATED:20250423T192116Z
LAST-MODIFIED:20250423T192116Z
UID:926-1754524800-1754611199@myqca.org
SUMMARY:Meet the Teacher & Supply Drop Off (MS & HS)
DESCRIPTION:
URL:https://myqca.org/event/meet-the-teacher-supply-drop-off-ms-hs/
CATEGORIES:Special Events
END:VEVENT
BEGIN:VEVENT
DTSTART;VALUE=DATE:20250806
DTEND;VALUE=DATE:20250807
DTSTAMP:20260424T041752
CREATED:20250423T192040Z
LAST-MODIFIED:20250423T192040Z
UID:924-1754438400-1754524799@myqca.org
SUMMARY:Meet the Teacher & Supply Drop Off (Elementary)
DESCRIPTION:
URL:https://myqca.org/event/meet-the-teacher-supply-drop-off-elementary/
CATEGORIES:Special Events
END:VEVENT
END:VCALENDAR