BEGIN:VCALENDAR
VERSION:2.0
PRODID:-//QCA School - ECPv6.15.20//NONSGML v1.0//EN
CALSCALE:GREGORIAN
METHOD:PUBLISH
X-WR-CALNAME:QCA School
X-ORIGINAL-URL:https://myqca.org
X-WR-CALDESC:Events for QCA School
REFRESH-INTERVAL;VALUE=DURATION:PT1H
X-Robots-Tag:noindex
X-PUBLISHED-TTL:PT1H
BEGIN:VTIMEZONE
TZID:UTC
BEGIN:STANDARD
TZOFFSETFROM:+0000
TZOFFSETTO:+0000
TZNAME:UTC
DTSTART:20240101T000000
END:STANDARD
END:VTIMEZONE
BEGIN:VEVENT
DTSTART;VALUE=DATE:20250818
DTEND;VALUE=DATE:20250823
DTSTAMP:20260424T042241
CREATED:20250423T192327Z
LAST-MODIFIED:20250423T192327Z
UID:932-1755475200-1755907199@myqca.org
SUMMARY:Dual Credit 1st Week Back to School (11th & 12th)
DESCRIPTION:
URL:https://myqca.org/event/dual-credit-1st-week-back-to-school-11th-12th/
CATEGORIES:First/Last Day of School
END:VEVENT
BEGIN:VEVENT
DTSTART;VALUE=DATE:20250816
DTEND;VALUE=DATE:20250817
DTSTAMP:20260424T042241
CREATED:20250423T192242Z
LAST-MODIFIED:20250423T192242Z
UID:930-1755302400-1755388799@myqca.org
SUMMARY:SY 2025 - 2026 All Parent Orientation (K-12)
DESCRIPTION:
URL:https://myqca.org/event/sy-2025-2026-all-parent-orientation-k-12/
CATEGORIES:Special Events
END:VEVENT
BEGIN:VEVENT
DTSTART;TZID=UTC:20250812T080000
DTEND;TZID=UTC:20250812T153000
DTSTAMP:20260424T042241
CREATED:20250423T192218Z
LAST-MODIFIED:20250423T192218Z
UID:928-1754985600-1755012600@myqca.org
SUMMARY:1st Day of Classes (K-10)
DESCRIPTION:
URL:https://myqca.org/event/1st-day-of-classes-k-10/
CATEGORIES:First/Last Day of School
END:VEVENT
BEGIN:VEVENT
DTSTART;VALUE=DATE:20250807
DTEND;VALUE=DATE:20250808
DTSTAMP:20260424T042241
CREATED:20250423T192116Z
LAST-MODIFIED:20250423T192116Z
UID:926-1754524800-1754611199@myqca.org
SUMMARY:Meet the Teacher & Supply Drop Off (MS & HS)
DESCRIPTION:
URL:https://myqca.org/event/meet-the-teacher-supply-drop-off-ms-hs/
CATEGORIES:Special Events
END:VEVENT
BEGIN:VEVENT
DTSTART;VALUE=DATE:20250806
DTEND;VALUE=DATE:20250807
DTSTAMP:20260424T042241
CREATED:20250423T192040Z
LAST-MODIFIED:20250423T192040Z
UID:924-1754438400-1754524799@myqca.org
SUMMARY:Meet the Teacher & Supply Drop Off (Elementary)
DESCRIPTION:
URL:https://myqca.org/event/meet-the-teacher-supply-drop-off-elementary/
CATEGORIES:Special Events
END:VEVENT
END:VCALENDAR